BEGIN:VCALENDAR
VERSION:2.0
PRODID:-//Gateway Resort  - ECPv6.15.20//NONSGML v1.0//EN
CALSCALE:GREGORIAN
METHOD:PUBLISH
X-WR-CALNAME:Gateway Resort 
X-ORIGINAL-URL:https://www.gatewayresort.co.uk
X-WR-CALDESC:Events for Gateway Resort 
REFRESH-INTERVAL;VALUE=DURATION:PT1H
X-Robots-Tag:noindex
X-PUBLISHED-TTL:PT1H
BEGIN:VTIMEZONE
TZID:UTC
BEGIN:STANDARD
TZOFFSETFROM:+0000
TZOFFSETTO:+0000
TZNAME:UTC
DTSTART:20250101T000000
END:STANDARD
END:VTIMEZONE
BEGIN:VEVENT
DTSTART;VALUE=DATE:20260424
DTEND;VALUE=DATE:20260427
DTSTAMP:20260423T123438
CREATED:20260106T113202Z
LAST-MODIFIED:20260411T142326Z
UID:22320-1776988800-1777247999@www.gatewayresort.co.uk
SUMMARY:GATEWAY'S 24TH ANNIVERSARY DISCO WEEKEND!
DESCRIPTION:
URL:https://www.gatewayresort.co.uk/event/gateways-24th-anniversary-weekend/
END:VEVENT
BEGIN:VEVENT
DTSTART;TZID=UTC:20260424T190000
DTEND;TZID=UTC:20260424T230000
DTSTAMP:20260423T123438
CREATED:20260123T094516Z
LAST-MODIFIED:20260411T142236Z
UID:22853-1777057200-1777071600@www.gatewayresort.co.uk
SUMMARY:Kids Club\, Big Cash Bingo & Abba Tribute Show with Glitter & Gold!
DESCRIPTION:
URL:https://www.gatewayresort.co.uk/event/kids-club-big-cash-bingo-live-music-104/
LOCATION:Barrel Bar
END:VEVENT
BEGIN:VEVENT
DTSTART;TZID=UTC:20260425T140000
DTEND;TZID=UTC:20260425T153000
DTSTAMP:20260423T123438
CREATED:20260123T094615Z
LAST-MODIFIED:20260406T093258Z
UID:22855-1777125600-1777131000@www.gatewayresort.co.uk
SUMMARY:UV Glo Kids Party
DESCRIPTION:
URL:https://www.gatewayresort.co.uk/event/kids-party-74/
LOCATION:Barrel Bar
END:VEVENT
BEGIN:VEVENT
DTSTART;TZID=UTC:20260425T160000
DTEND;TZID=UTC:20260425T183000
DTSTAMP:20260423T123438
CREATED:20260123T094819Z
LAST-MODIFIED:20260406T093534Z
UID:22859-1777132800-1777141800@www.gatewayresort.co.uk
SUMMARY:Live Music on our Sun Terrace with It Takes 2 Boogie Shoes Show!
DESCRIPTION:
URL:https://www.gatewayresort.co.uk/event/live-music-on-our-sun-terrace-15/
LOCATION:Barrel Bar Patio
END:VEVENT
BEGIN:VEVENT
DTSTART;TZID=UTC:20260425T190000
DTEND;TZID=UTC:20260425T233000
DTSTAMP:20260423T123438
CREATED:20260123T094715Z
LAST-MODIFIED:20260406T093448Z
UID:22857-1777143600-1777159800@www.gatewayresort.co.uk
SUMMARY:Kids Club\, Big Cash Bingo & Live Music with Disco Band Boogie Shack
DESCRIPTION:
URL:https://www.gatewayresort.co.uk/event/kids-club-big-cash-bingo-live-music-105/
LOCATION:Barrel Bar
END:VEVENT
BEGIN:VEVENT
DTSTART;TZID=UTC:20260426T093000
DTEND;TZID=UTC:20260426T113000
DTSTAMP:20260423T123438
CREATED:20260123T093943Z
LAST-MODIFIED:20260123T093943Z
UID:22849-1777195800-1777203000@www.gatewayresort.co.uk
SUMMARY:Breakfast Bingo & Open the Box
DESCRIPTION:
URL:https://www.gatewayresort.co.uk/event/breakfast-bingo-open-the-box-69/
LOCATION:Barrel Bar
END:VEVENT
BEGIN:VEVENT
DTSTART;TZID=UTC:20260426T120000
DTEND;TZID=UTC:20260426T160000
DTSTAMP:20260423T123438
CREATED:20260123T093851Z
LAST-MODIFIED:20260123T093851Z
UID:22846-1777204800-1777219200@www.gatewayresort.co.uk
SUMMARY:Sunday Carvery (call us to book on 01554 750100)
DESCRIPTION:
URL:https://www.gatewayresort.co.uk/event/sunday-carvery-call-us-to-book-on-01554-750100-21/
LOCATION:Barrel Bar
END:VEVENT
BEGIN:VEVENT
DTSTART;TZID=UTC:20260426T160000
DTEND;TZID=UTC:20260426T183000
DTSTAMP:20260423T123438
CREATED:20260123T094135Z
LAST-MODIFIED:20260406T190233Z
UID:22851-1777219200-1777228200@www.gatewayresort.co.uk
SUMMARY:Live Music on our Sun Terrace with Elliot Lewis
DESCRIPTION:
URL:https://www.gatewayresort.co.uk/event/live-music-on-our-sun-terrace-14/
LOCATION:Barrel Bar Patio
END:VEVENT
BEGIN:VEVENT
DTSTART;TZID=UTC:20260426T190000
DTEND;TZID=UTC:20260426T220000
DTSTAMP:20260423T123438
CREATED:20260123T093806Z
LAST-MODIFIED:20260123T093806Z
UID:22844-1777230000-1777240800@www.gatewayresort.co.uk
SUMMARY:Sunday Club! Pub Quiz\, Poker & Adult Karaoke
DESCRIPTION:
URL:https://www.gatewayresort.co.uk/event/sunday-club-pub-quiz-poker-adult-karaoke-43/
LOCATION:The Tavern
END:VEVENT
BEGIN:VEVENT
DTSTART;TZID=UTC:20260427T110000
DTEND;TZID=UTC:20260427T113000
DTSTAMP:20260423T123438
CREATED:20260127T115735Z
LAST-MODIFIED:20260127T115735Z
UID:23031-1777287600-1777289400@www.gatewayresort.co.uk
SUMMARY:Free Storytime
DESCRIPTION:
URL:https://www.gatewayresort.co.uk/event/free-storytime-19/
LOCATION:Play Area
END:VEVENT
BEGIN:VEVENT
DTSTART;TZID=UTC:20260429T093000
DTEND;TZID=UTC:20260429T113000
DTSTAMP:20260423T123438
CREATED:20260123T093603Z
LAST-MODIFIED:20260123T093603Z
UID:22840-1777455000-1777462200@www.gatewayresort.co.uk
SUMMARY:Free Sensory/Messy Play!
DESCRIPTION:
URL:https://www.gatewayresort.co.uk/event/free-sensory-messy-play-15/
LOCATION:Play Area
END:VEVENT
BEGIN:VEVENT
DTSTART;TZID=UTC:20260430T103000
DTEND;TZID=UTC:20260430T120000
DTSTAMP:20260423T123438
CREATED:20260413T125050Z
LAST-MODIFIED:20260413T125158Z
UID:24409-1777545000-1777550400@www.gatewayresort.co.uk
SUMMARY:Party with Peppa 🐷🩷
DESCRIPTION:
URL:https://www.gatewayresort.co.uk/event/party-with-peppa/
LOCATION:Play Area
END:VEVENT
END:VCALENDAR